BEGIN:VCALENDAR
VERSION:2.0
PRODID:-//KALA ACADEMY GOA - ECPv6.15.20//NONSGML v1.0//EN
CALSCALE:GREGORIAN
METHOD:PUBLISH
X-WR-CALNAME:KALA ACADEMY GOA
X-ORIGINAL-URL:https://kalaacademygoa.co.in
X-WR-CALDESC:Events for KALA ACADEMY GOA
REFRESH-INTERVAL;VALUE=DURATION:PT1H
X-Robots-Tag:noindex
X-PUBLISHED-TTL:PT1H
BEGIN:VTIMEZONE
TZID:UTC
BEGIN:STANDARD
TZOFFSETFROM:+0000
TZOFFSETTO:+0000
TZNAME:UTC
DTSTART:20200101T000000
END:STANDARD
END:VTIMEZONE
BEGIN:VEVENT
DTSTART;TZID=UTC:20210208T190000
DTEND;TZID=UTC:20210218T220000
DTSTAMP:20260424T085342
CREATED:20210203T043013Z
LAST-MODIFIED:20210203T043123Z
UID:2923-1612810800-1613685600@kalaacademygoa.co.in
SUMMARY:Programme of 53rd Marathi Drama 'A' Group Competition 2020-21
DESCRIPTION:Programme of 53rd Marathi Drama ‘A’ Group Competition
URL:https://kalaacademygoa.co.in/event/programme-of-53rd-marathi-drama-a-group-competition-2020-21/
CATEGORIES:UPCOMING EVENTS
END:VEVENT
END:VCALENDAR