BEGIN:VCALENDAR
VERSION:2.0
PRODID:-//KALA ACADEMY GOA - ECPv6.15.20//NONSGML v1.0//EN
CALSCALE:GREGORIAN
METHOD:PUBLISH
X-WR-CALNAME:KALA ACADEMY GOA
X-ORIGINAL-URL:https://kalaacademygoa.co.in
X-WR-CALDESC:Events for KALA ACADEMY GOA
REFRESH-INTERVAL;VALUE=DURATION:PT1H
X-Robots-Tag:noindex
X-PUBLISHED-TTL:PT1H
BEGIN:VTIMEZONE
TZID:UTC
BEGIN:STANDARD
TZOFFSETFROM:+0000
TZOFFSETTO:+0000
TZNAME:UTC
DTSTART:20200101T000000
END:STANDARD
END:VTIMEZONE
BEGIN:VEVENT
DTSTART;TZID=UTC:20210129T170000
DTEND;TZID=UTC:20210131T220000
DTSTAMP:20260424T073112
CREATED:20210120T053316Z
LAST-MODIFIED:20210129T030510Z
UID:2836-1611939600-1612130400@kalaacademygoa.co.in
SUMMARY:Invitation for 40th Edition of Surashree Kesarbai Kerkar Sangeet Samaroha
DESCRIPTION:Click image to read more
URL:https://kalaacademygoa.co.in/event/40th-edition-of-surashree-kesarbai-kerkar-sangeet-samaroha/
CATEGORIES:UPCOMING EVENTS
END:VEVENT
BEGIN:VEVENT
DTSTART;TZID=UTC:20210129T170000
DTEND;TZID=UTC:20210131T220000
DTSTAMP:20260424T073112
CREATED:20210122T055243Z
LAST-MODIFIED:20210122T061809Z
UID:2840-1611939600-1612130400@kalaacademygoa.co.in
SUMMARY:Programme of Surashree Kesarbai Kerkar Sangeet Samaroha 2020-21
DESCRIPTION:Click here for more information
URL:https://kalaacademygoa.co.in/event/programme-of-surashree-kesarbai-kerkar-sangeet-samaroha-2020-21/
CATEGORIES:UPCOMING EVENTS
END:VEVENT
BEGIN:VEVENT
DTSTART;TZID=UTC:20210130T103000
DTEND;TZID=UTC:20210131T190000
DTSTAMP:20260424T073112
CREATED:20210130T022734Z
LAST-MODIFIED:20210130T022839Z
UID:2908-1612002600-1612119600@kalaacademygoa.co.in
SUMMARY:Live Streaming details of the Kesarbai Festival
DESCRIPTION:Click on the above image to know more about the event
URL:https://kalaacademygoa.co.in/event/live-streaming-details-of-the-kesarbai-festival/
CATEGORIES:UPCOMING EVENTS
END:VEVENT
END:VCALENDAR