BEGIN:VCALENDAR
VERSION:2.0
PRODID:-//KALA ACADEMY GOA - ECPv6.15.20//NONSGML v1.0//EN
CALSCALE:GREGORIAN
METHOD:PUBLISH
X-WR-CALNAME:KALA ACADEMY GOA
X-ORIGINAL-URL:https://kalaacademygoa.co.in
X-WR-CALDESC:Events for KALA ACADEMY GOA
REFRESH-INTERVAL;VALUE=DURATION:PT1H
X-Robots-Tag:noindex
X-PUBLISHED-TTL:PT1H
BEGIN:VTIMEZONE
TZID:UTC
BEGIN:STANDARD
TZOFFSETFROM:+0000
TZOFFSETTO:+0000
TZNAME:UTC
DTSTART:20190101T000000
END:STANDARD
END:VTIMEZONE
BEGIN:VEVENT
DTSTART;TZID=UTC:20200105T170000
DTEND;TZID=UTC:20200105T200000
DTSTAMP:20260424T010330
CREATED:20200109T011110Z
LAST-MODIFIED:20200109T011110Z
UID:2243-1578243600-1578254400@kalaacademygoa.co.in
SUMMARY:Rangdevata Swarmamch Programme
DESCRIPTION:Rangdevata Swarmamch Programme
URL:https://kalaacademygoa.co.in/event/rangdevata-swarmamch-programme/
LOCATION:DMKM
CATEGORIES:UPCOMING EVENTS
ATTACH;FMTTYPE=image/jpeg:https://kalaacademygoa.co.in/wp-content/uploads/2020/01/Rangdevata-Swarmamch-Progra.jpg
END:VEVENT
BEGIN:VEVENT
DTSTART;TZID=UTC:20200106T190000
DTEND;TZID=UTC:20200110T220000
DTSTAMP:20260424T010330
CREATED:20191223T003002Z
LAST-MODIFIED:20191223T020826Z
UID:2231-1578337200-1578693600@kalaacademygoa.co.in
SUMMARY:Programme of Sangeet Natak Mahotsav 2019
DESCRIPTION:Programme of Sangeet NAtak Mahotsav 2019
URL:https://kalaacademygoa.co.in/event/programme-of-sangeet-natak-mahotsav-2019/
CATEGORIES:UPCOMING EVENTS
ATTACH;FMTTYPE=image/jpeg:https://kalaacademygoa.co.in/wp-content/uploads/2019/12/Programme-of-Sangeet-Natak.jpg
END:VEVENT
BEGIN:VEVENT
DTSTART;TZID=UTC:20200120T080000
DTEND;TZID=UTC:20200124T170000
DTSTAMP:20260424T010330
CREATED:20200118T002118Z
LAST-MODIFIED:20200118T002118Z
UID:2253-1579507200-1579885200@kalaacademygoa.co.in
SUMMARY:One Act High School
DESCRIPTION:
URL:https://kalaacademygoa.co.in/event/one-act-high-school/
LOCATION:DMKM
CATEGORIES:UPCOMING EVENTS
ATTACH;FMTTYPE=image/jpeg:https://kalaacademygoa.co.in/wp-content/uploads/2020/01/One-Act-High-school.jpg
END:VEVENT
BEGIN:VEVENT
DTSTART;TZID=UTC:20200125T170000
DTEND;TZID=UTC:20200225T200000
DTSTAMP:20260424T010330
CREATED:20191218T020423Z
LAST-MODIFIED:20191218T020423Z
UID:2220-1579971600-1582660800@kalaacademygoa.co.in
SUMMARY:Instrumental Music Concerts on 25th January 2020
DESCRIPTION:Instrumental Music Concerts on 25th January 2020
URL:https://kalaacademygoa.co.in/event/instrumental-music-concerts-on-25th-january-2020/
CATEGORIES:UPCOMING EVENTS
ATTACH;FMTTYPE=image/jpeg:https://kalaacademygoa.co.in/wp-content/uploads/2019/12/Instrumental-Music-Concert2.jpg
END:VEVENT
BEGIN:VEVENT
DTSTART;TZID=UTC:20200128T080000
DTEND;TZID=UTC:20200128T170000
DTSTAMP:20260424T010330
CREATED:20200128T060110Z
LAST-MODIFIED:20200128T062911Z
UID:2307-1580198400-1580230800@kalaacademygoa.co.in
SUMMARY:Shivgomantak 2020
DESCRIPTION:As a part of Golden Jubilee Celebration\, Kala Academy Goa will present “SHIVGOMANTAK’’ two hour long Marathi Drama based on the epic visit of the great Maratha warrior “Chatrapathi Shivaji & Chatrapathi Sambhaji to evict Portuguese from Goa. Hon’ble Chairperson of Kala Academy & Minister for Art & Culture Shri Govind Gaude in presence of dignitaries & Artist performed Muhurut ritual of the Drama today in Black Box Auditorium. Speaking on the occasion Hon’ble Minister recalled the incident & invoked the memories of “SHIVGOMANTAK’ Drama writer late Shri Vishnu Surya Wagh and made a special mention that the said drama was written by late Shri Wagh in a continues spell of one day & 2 nights without any break. Stay tuned for the prelude video of “SHIVGOMANTAK’. \n                                                                                                                                                                                                                                                                                                                                                                                                                                                                                                                                                                                                                                                                                                                                                                                                                                                                                                                                                                                                                                                                                                                                             \nClick to view Gallery \n 
URL:https://kalaacademygoa.co.in/event/shivgomantak/
CATEGORIES:UPCOMING EVENTS
END:VEVENT
BEGIN:VEVENT
DTSTART;TZID=UTC:20200128T190000
DTEND;TZID=UTC:20200128T220000
DTSTAMP:20260424T010330
CREATED:20200126T060456Z
LAST-MODIFIED:20200130T230522Z
UID:2316-1580238000-1580248800@kalaacademygoa.co.in
SUMMARY:Marathi Drama Magna Talyakathi at Vasco
DESCRIPTION:
URL:https://kalaacademygoa.co.in/event/marathi-drama-magna-talyakathi/
CATEGORIES:UPCOMING EVENTS
ATTACH;FMTTYPE=image/jpeg:https://kalaacademygoa.co.in/wp-content/uploads/2020/01/Shivgomantak-5.jpg
END:VEVENT
BEGIN:VEVENT
DTSTART;TZID=UTC:20200130T070000
DTEND;TZID=UTC:20200130T220000
DTSTAMP:20260424T010330
CREATED:20200126T060819Z
LAST-MODIFIED:20200130T230626Z
UID:2319-1580367600-1580421600@kalaacademygoa.co.in
SUMMARY:Marathi Drama Magna Talyakathi at Curchorem (Kudchade)
DESCRIPTION:
URL:https://kalaacademygoa.co.in/event/marathi-drama-magna-talyakathi-at-curchorem-kudchade/
CATEGORIES:UPCOMING EVENTS
ATTACH;FMTTYPE=image/jpeg:https://kalaacademygoa.co.in/wp-content/uploads/2020/01/Shivgomantak.jpg
END:VEVENT
END:VCALENDAR