BEGIN:VCALENDAR
VERSION:2.0
PRODID:-//KALA ACADEMY GOA - ECPv6.15.20//NONSGML v1.0//EN
CALSCALE:GREGORIAN
METHOD:PUBLISH
X-WR-CALNAME:KALA ACADEMY GOA
X-ORIGINAL-URL:https://kalaacademygoa.co.in
X-WR-CALDESC:Events for KALA ACADEMY GOA
REFRESH-INTERVAL;VALUE=DURATION:PT1H
X-Robots-Tag:noindex
X-PUBLISHED-TTL:PT1H
BEGIN:VTIMEZONE
TZID:UTC
BEGIN:STANDARD
TZOFFSETFROM:+0000
TZOFFSETTO:+0000
TZNAME:UTC
DTSTART:20150101T000000
END:STANDARD
END:VTIMEZONE
BEGIN:VEVENT
DTSTART;TZID=UTC:20161129T090000
DTEND;TZID=UTC:20161129T233000
DTSTAMP:20260425T170540
CREATED:20161129T053225Z
LAST-MODIFIED:20161129T053225Z
UID:790-1480410000-1480462200@kalaacademygoa.co.in
SUMMARY:Marathi Drama "A" Group
DESCRIPTION:
URL:https://kalaacademygoa.co.in/event/marathi-drama-a-group/
LOCATION:Meeting Room
END:VEVENT
BEGIN:VEVENT
DTSTART;TZID=UTC:20161104T100000
DTEND;TZID=UTC:20161104T193000
DTSTAMP:20260425T170540
CREATED:20161031T033223Z
LAST-MODIFIED:20161031T033223Z
UID:743-1478253600-1478287800@kalaacademygoa.co.in
SUMMARY:State Art Exhibition
DESCRIPTION:
URL:https://kalaacademygoa.co.in/event/state-art-exhibition-5/
LOCATION:Art Gallery
END:VEVENT
BEGIN:VEVENT
DTSTART;TZID=UTC:20161104T090000
DTEND;TZID=UTC:20161104T233500
DTSTAMP:20260425T170540
CREATED:20161031T034158Z
LAST-MODIFIED:20161031T034158Z
UID:751-1478250000-1478302500@kalaacademygoa.co.in
SUMMARY:Surashree Kesarbai Sangeet Samaroh
DESCRIPTION:
URL:https://kalaacademygoa.co.in/event/surashree-kesarbai-sangeet-samaroh-4/
LOCATION:OAA
END:VEVENT
BEGIN:VEVENT
DTSTART;TZID=UTC:20161104T090000
DTEND;TZID=UTC:20161104T233000
DTSTAMP:20260425T170540
CREATED:20161031T033618Z
LAST-MODIFIED:20161031T033618Z
UID:749-1478250000-1478302200@kalaacademygoa.co.in
SUMMARY:Surashree Kesarbai Sangeet Samaroh
DESCRIPTION:
URL:https://kalaacademygoa.co.in/event/surashree-kesarbai-sangeet-samaroh-3/
LOCATION:Black Box\, KA-PDS
END:VEVENT
BEGIN:VEVENT
DTSTART;TZID=UTC:20161104T090000
DTEND;TZID=UTC:20161104T233000
DTSTAMP:20260425T170540
CREATED:20161031T033510Z
LAST-MODIFIED:20161031T033510Z
UID:747-1478250000-1478302200@kalaacademygoa.co.in
SUMMARY:Refreshments
DESCRIPTION:
URL:https://kalaacademygoa.co.in/event/refreshments-3/
LOCATION:Meeting Room
END:VEVENT
BEGIN:VEVENT
DTSTART;TZID=UTC:20161104T090000
DTEND;TZID=UTC:20161104T233000
DTSTAMP:20260425T170540
CREATED:20161031T033353Z
LAST-MODIFIED:20161031T033353Z
UID:745-1478250000-1478302200@kalaacademygoa.co.in
SUMMARY:Surashree Kesarbai Sangeet Samaroh
DESCRIPTION:
URL:https://kalaacademygoa.co.in/event/surashree-kesarbai-sangeet-samaroh-2/
LOCATION:Foyer Area
END:VEVENT
BEGIN:VEVENT
DTSTART;TZID=UTC:20161104T090000
DTEND;TZID=UTC:20161104T233000
DTSTAMP:20260425T170540
CREATED:20161031T033138Z
LAST-MODIFIED:20161031T041924Z
UID:741-1478250000-1478302200@kalaacademygoa.co.in
SUMMARY:Surashree Kesarbai Sangeet Samaroh
DESCRIPTION:Prog. Will start at 5:00 p.m
URL:https://kalaacademygoa.co.in/event/surashree-kesarbai-sangeet-samaroh/
LOCATION:DMKM
END:VEVENT
BEGIN:VEVENT
DTSTART;TZID=UTC:20161104T080000
DTEND;TZID=UTC:20161106T170000
DTSTAMP:20260425T170540
CREATED:20161031T015823Z
LAST-MODIFIED:20161031T043108Z
UID:710-1478246400-1478451600@kalaacademygoa.co.in
SUMMARY:36th Surashree Kesarbai Kerkar Sangeet Samaroha-2016
DESCRIPTION:Click to view
URL:https://kalaacademygoa.co.in/event/36th-surashree-kesarbai-kerkar-sangeet-samaroha-2016/
ATTACH;FMTTYPE=image/jpeg:https://kalaacademygoa.co.in/wp-content/uploads/2016/10/KESAR-poster-1.jpg
END:VEVENT
BEGIN:VEVENT
DTSTART;TZID=UTC:20161103T100000
DTEND;TZID=UTC:20161103T193000
DTSTAMP:20260425T170540
CREATED:20161031T033027Z
LAST-MODIFIED:20161031T033027Z
UID:739-1478167200-1478201400@kalaacademygoa.co.in
SUMMARY:State Art Exhibition
DESCRIPTION:
URL:https://kalaacademygoa.co.in/event/state-art-exhibition-4/
LOCATION:Art Gallery
END:VEVENT
BEGIN:VEVENT
DTSTART;TZID=UTC:20161103T090000
DTEND;TZID=UTC:20161103T233000
DTSTAMP:20260425T170540
CREATED:20161031T032658Z
LAST-MODIFIED:20161031T032658Z
UID:733-1478163600-1478215800@kalaacademygoa.co.in
SUMMARY:Surashree Kesarbai Sangeet Samaroh arrangements
DESCRIPTION:
URL:https://kalaacademygoa.co.in/event/surashree-kesarbai-sangeet-samaroh-arrangements-2/
LOCATION:Black Box\, KA-PDS
END:VEVENT
BEGIN:VEVENT
DTSTART;TZID=UTC:20161103T090000
DTEND;TZID=UTC:20161103T233000
DTSTAMP:20260425T170540
CREATED:20161031T032530Z
LAST-MODIFIED:20161031T032530Z
UID:731-1478163600-1478215800@kalaacademygoa.co.in
SUMMARY:Surashree Kesarbai Sangeet Samaroh arrangements
DESCRIPTION:
URL:https://kalaacademygoa.co.in/event/surashree-kesarbai-sangeet-samaroh-arrangements/
LOCATION:DMKM
END:VEVENT
BEGIN:VEVENT
DTSTART;TZID=UTC:20161103T050000
DTEND;TZID=UTC:20161103T233000
DTSTAMP:20260425T170540
CREATED:20161031T032855Z
LAST-MODIFIED:20161031T032855Z
UID:735-1478149200-1478215800@kalaacademygoa.co.in
SUMMARY:Konkani Musical Concert
DESCRIPTION:
URL:https://kalaacademygoa.co.in/event/konkani-musical-concert/
LOCATION:OAA
END:VEVENT
BEGIN:VEVENT
DTSTART;TZID=UTC:20161102T140000
DTEND;TZID=UTC:20161102T233000
DTSTAMP:20260425T170540
CREATED:20161031T031541Z
LAST-MODIFIED:20161031T041445Z
UID:717-1478095200-1478129400@kalaacademygoa.co.in
SUMMARY:Swaranjali Musical Concert
DESCRIPTION:Prog. Will start at 7:00 p.m
URL:https://kalaacademygoa.co.in/event/swaranjali-musical-concert/
LOCATION:DMKM
END:VEVENT
BEGIN:VEVENT
DTSTART;TZID=UTC:20161102T100000
DTEND;TZID=UTC:20161102T193000
DTSTAMP:20260425T170540
CREATED:20161031T031655Z
LAST-MODIFIED:20161031T031655Z
UID:721-1478080800-1478115000@kalaacademygoa.co.in
SUMMARY:State Art Exhibition
DESCRIPTION:
URL:https://kalaacademygoa.co.in/event/state-art-exhibition-3/
LOCATION:Art Gallery
END:VEVENT
BEGIN:VEVENT
DTSTART;TZID=UTC:20161102T050000
DTEND;TZID=UTC:20161102T233000
DTSTAMP:20260425T170540
CREATED:20161031T031853Z
LAST-MODIFIED:20161031T041545Z
UID:723-1478062800-1478129400@kalaacademygoa.co.in
SUMMARY:Interstate Cultural Programme
DESCRIPTION:Prog. Will start at 4:30 p.m
URL:https://kalaacademygoa.co.in/event/interstate-cultural-programme/
LOCATION:OAA
END:VEVENT
BEGIN:VEVENT
DTSTART;TZID=UTC:20161101T100000
DTEND;TZID=UTC:20161101T193000
DTSTAMP:20260425T170540
CREATED:20161031T031333Z
LAST-MODIFIED:20161031T031333Z
UID:715-1477994400-1478028600@kalaacademygoa.co.in
SUMMARY:State Art Exhibition
DESCRIPTION:
URL:https://kalaacademygoa.co.in/event/state-art-exhibition-2/
LOCATION:Art Gallery
END:VEVENT
BEGIN:VEVENT
DTSTART;TZID=UTC:20161031T100000
DTEND;TZID=UTC:20161031T193000
DTSTAMP:20260425T170540
CREATED:20161031T031136Z
LAST-MODIFIED:20161031T031136Z
UID:713-1477908000-1477942200@kalaacademygoa.co.in
SUMMARY:State Art Exhibition
DESCRIPTION:
URL:https://kalaacademygoa.co.in/event/state-art-exhibition/
LOCATION:Art Gallery
END:VEVENT
BEGIN:VEVENT
DTSTART;TZID=UTC:20161031T090000
DTEND;TZID=UTC:20161031T233000
DTSTAMP:20260425T170540
CREATED:20161031T032109Z
LAST-MODIFIED:20161031T041749Z
UID:729-1477904400-1477956600@kalaacademygoa.co.in
SUMMARY:Prize distribution function of state art exhibition
DESCRIPTION:Prog. Will start at 4:00 p.m
URL:https://kalaacademygoa.co.in/event/prize-distribution-function-of-state-art-exhibition/
LOCATION:Black Box\, KA-PDS
END:VEVENT
BEGIN:VEVENT
DTSTART;TZID=UTC:20161021T110000
DTEND;TZID=UTC:20161021T130000
DTSTAMP:20260425T170540
CREATED:20161017T042748Z
LAST-MODIFIED:20161017T042748Z
UID:470-1477047600-1477054800@kalaacademygoa.co.in
SUMMARY:Refreshments
DESCRIPTION:
URL:https://kalaacademygoa.co.in/event/refreshments-2/
LOCATION:Meeting Room
END:VEVENT
BEGIN:VEVENT
DTSTART;TZID=UTC:20161021T090000
DTEND;TZID=UTC:20161021T233000
DTSTAMP:20260425T170540
CREATED:20161017T042524Z
LAST-MODIFIED:20161017T042524Z
UID:464-1477040400-1477092600@kalaacademygoa.co.in
SUMMARY:Exhibition of Vocational products
DESCRIPTION:
URL:https://kalaacademygoa.co.in/event/exhibition-of-vocational-products/
LOCATION:Foyer Area
END:VEVENT
BEGIN:VEVENT
DTSTART;TZID=UTC:20161021T080000
DTEND;TZID=UTC:20161021T170000
DTSTAMP:20260425T170540
CREATED:20161017T042326Z
LAST-MODIFIED:20161017T042326Z
UID:462-1477036800-1477069200@kalaacademygoa.co.in
SUMMARY:Play-"Prayktachi Vani Taklechi Kani
DESCRIPTION:
URL:https://kalaacademygoa.co.in/event/play-prayktachi-vani-taklechi-kani/
LOCATION:DMKM
END:VEVENT
BEGIN:VEVENT
DTSTART;TZID=UTC:20161020T090000
DTEND;TZID=UTC:20161020T233000
DTSTAMP:20260425T170540
CREATED:20161017T042207Z
LAST-MODIFIED:20161017T042207Z
UID:457-1476954000-1477006200@kalaacademygoa.co.in
SUMMARY:Seminar
DESCRIPTION:
URL:https://kalaacademygoa.co.in/event/seminar/
LOCATION:Black Box\, KA-PDS
END:VEVENT
BEGIN:VEVENT
DTSTART;TZID=UTC:20161020T090000
DTEND;TZID=UTC:20161020T233000
DTSTAMP:20260425T170540
CREATED:20161017T042038Z
LAST-MODIFIED:20161017T042038Z
UID:452-1476954000-1477006200@kalaacademygoa.co.in
SUMMARY:Rehersal of New Play Production
DESCRIPTION:
URL:https://kalaacademygoa.co.in/event/rehersal-of-new-play-production/
LOCATION:DMKM
END:VEVENT
BEGIN:VEVENT
DTSTART;TZID=UTC:20161019T090000
DTEND;TZID=UTC:20161019T183000
DTSTAMP:20260425T170540
CREATED:20161017T041823Z
LAST-MODIFIED:20161017T041823Z
UID:450-1476867600-1476901800@kalaacademygoa.co.in
SUMMARY:Teachers Training Workshop(Vocal)
DESCRIPTION:
URL:https://kalaacademygoa.co.in/event/teachers-training-workshopvocal-3/
LOCATION:Black Box\, KA-PDS
END:VEVENT
BEGIN:VEVENT
DTSTART;TZID=UTC:20161018T190000
DTEND;TZID=UTC:20161018T233000
DTSTAMP:20260425T170540
CREATED:20161017T040830Z
LAST-MODIFIED:20161017T040830Z
UID:438-1476817200-1476833400@kalaacademygoa.co.in
SUMMARY:Tiatr-"Devak Divya Argah"
DESCRIPTION:
URL:https://kalaacademygoa.co.in/event/tiatr-devak-divya-argah/
LOCATION:DMKM
END:VEVENT
BEGIN:VEVENT
DTSTART;TZID=UTC:20161018T100000
DTEND;TZID=UTC:20161018T190000
DTSTAMP:20260425T170540
CREATED:20161017T041034Z
LAST-MODIFIED:20161017T041034Z
UID:442-1476784800-1476817200@kalaacademygoa.co.in
SUMMARY:Painting Exhibition
DESCRIPTION:
URL:https://kalaacademygoa.co.in/event/painting-exhibition-4/
LOCATION:Art Gallery
END:VEVENT
BEGIN:VEVENT
DTSTART;TZID=UTC:20161018T090000
DTEND;TZID=UTC:20161018T183000
DTSTAMP:20260425T170540
CREATED:20161017T041602Z
LAST-MODIFIED:20161017T041602Z
UID:444-1476781200-1476815400@kalaacademygoa.co.in
SUMMARY:Teachers Training Workshop(Vocal)
DESCRIPTION:
URL:https://kalaacademygoa.co.in/event/teachers-training-workshopvocal-2/
LOCATION:Black Box\, KA-PDS
END:VEVENT
BEGIN:VEVENT
DTSTART;TZID=UTC:20161017T100000
DTEND;TZID=UTC:20161017T190000
DTSTAMP:20260425T170540
CREATED:20161017T040408Z
LAST-MODIFIED:20161017T040408Z
UID:432-1476698400-1476730800@kalaacademygoa.co.in
SUMMARY:Painting Exhibition
DESCRIPTION:
URL:https://kalaacademygoa.co.in/event/painting-exhibition-3/
LOCATION:Art Gallery
END:VEVENT
BEGIN:VEVENT
DTSTART;TZID=UTC:20161017T090000
DTEND;TZID=UTC:20161017T183000
DTSTAMP:20260425T170540
CREATED:20161017T040607Z
LAST-MODIFIED:20161017T040607Z
UID:434-1476694800-1476729000@kalaacademygoa.co.in
SUMMARY:Teachers Training Workshop(Vocal)
DESCRIPTION:
URL:https://kalaacademygoa.co.in/event/teachers-training-workshopvocal/
LOCATION:Black Box\, KA-PDS
END:VEVENT
BEGIN:VEVENT
DTSTART;TZID=UTC:20161017T080000
DTEND;TZID=UTC:20161017T170000
DTSTAMP:20260425T170540
CREATED:20161017T041706Z
LAST-MODIFIED:20161017T041706Z
UID:448-1476691200-1476723600@kalaacademygoa.co.in
SUMMARY:Painting Exhibition
DESCRIPTION:
URL:https://kalaacademygoa.co.in/event/painting-exhibition-5/
LOCATION:Art Gallery
END:VEVENT
END:VCALENDAR