BEGIN:VCALENDAR
VERSION:2.0
PRODID:-//KALA ACADEMY GOA - ECPv6.15.20//NONSGML v1.0//EN
CALSCALE:GREGORIAN
METHOD:PUBLISH
X-WR-CALNAME:KALA ACADEMY GOA
X-ORIGINAL-URL:https://kalaacademygoa.co.in
X-WR-CALDESC:Events for KALA ACADEMY GOA
REFRESH-INTERVAL;VALUE=DURATION:PT1H
X-Robots-Tag:noindex
X-PUBLISHED-TTL:PT1H
BEGIN:VTIMEZONE
TZID:UTC
BEGIN:STANDARD
TZOFFSETFROM:+0000
TZOFFSETTO:+0000
TZNAME:UTC
DTSTART:20150101T000000
END:STANDARD
END:VTIMEZONE
BEGIN:VEVENT
DTSTART;TZID=UTC:20161204T143000
DTEND;TZID=UTC:20161208T183000
DTSTAMP:20260425T194222
CREATED:20161129T022908Z
LAST-MODIFIED:20161129T043512Z
UID:773-1480861800-1481221800@kalaacademygoa.co.in
SUMMARY:Workshop in Western Classical Music in collaboration with SPIC MACAY
DESCRIPTION:(Piano\, Cello\, Violin)\nClick to View Form \nFor Favour of Publication
URL:https://kalaacademygoa.co.in/event/workshop-in-western-classical-music-in-collaboration-with-spic-macay/
LOCATION:Black Box\, KA-PDS
END:VEVENT
BEGIN:VEVENT
DTSTART;TZID=UTC:20161202T140000
DTEND;TZID=UTC:20161202T233000
DTSTAMP:20260425T194222
CREATED:20161129T233401Z
LAST-MODIFIED:20161129T233401Z
UID:801-1480687200-1480721400@kalaacademygoa.co.in
SUMMARY:Inaugration of IVF Angels Goa Clinic
DESCRIPTION:
URL:https://kalaacademygoa.co.in/event/inaugration-of-ivf-angels-goa-clinic/
LOCATION:Black Box\, KA-PDS
END:VEVENT
BEGIN:VEVENT
DTSTART;TZID=UTC:20161202T100000
DTEND;TZID=UTC:20161202T193000
DTSTAMP:20260425T194222
CREATED:20161129T233517Z
LAST-MODIFIED:20161129T233517Z
UID:805-1480672800-1480707000@kalaacademygoa.co.in
SUMMARY:Art Exhibition
DESCRIPTION:
URL:https://kalaacademygoa.co.in/event/art-exhibition/
LOCATION:Art Gallery
END:VEVENT
BEGIN:VEVENT
DTSTART;TZID=UTC:20161202T090000
DTEND;TZID=UTC:20161202T233000
DTSTAMP:20260425T194222
CREATED:20161129T233051Z
LAST-MODIFIED:20161129T233051Z
UID:797-1480669200-1480721400@kalaacademygoa.co.in
SUMMARY:Marathi Drama "A" Group
DESCRIPTION:
URL:https://kalaacademygoa.co.in/event/marathi-drama-a-group-2/
LOCATION:Meeting Room
END:VEVENT
BEGIN:VEVENT
DTSTART;TZID=UTC:20161202T090000
DTEND;TZID=UTC:20161202T233000
DTSTAMP:20260425T194222
CREATED:20161129T052936Z
LAST-MODIFIED:20161129T052936Z
UID:786-1480669200-1480721400@kalaacademygoa.co.in
SUMMARY:Muscical Programme
DESCRIPTION:
URL:https://kalaacademygoa.co.in/event/muscical-programme/
LOCATION:Darya Sangam
END:VEVENT
BEGIN:VEVENT
DTSTART;TZID=UTC:20161202T050000
DTEND;TZID=UTC:20161202T220000
DTSTAMP:20260425T194222
CREATED:20161129T053421Z
LAST-MODIFIED:20161129T053421Z
UID:792-1480654800-1480716000@kalaacademygoa.co.in
SUMMARY:Annual Day
DESCRIPTION:
URL:https://kalaacademygoa.co.in/event/annual-day-2/
LOCATION:OAA
END:VEVENT
BEGIN:VEVENT
DTSTART;TZID=UTC:20161201T170000
DTEND;TZID=UTC:20161201T220000
DTSTAMP:20260425T194222
CREATED:20161129T234552Z
LAST-MODIFIED:20161129T234552Z
UID:821-1480611600-1480629600@kalaacademygoa.co.in
SUMMARY:Gospel Music Programme
DESCRIPTION:Prog. Will start at 6:00 pm
URL:https://kalaacademygoa.co.in/event/gospel-music-programme/
LOCATION:OAA
END:VEVENT
BEGIN:VEVENT
DTSTART;TZID=UTC:20161201T170000
DTEND;TZID=UTC:20161201T220000
DTSTAMP:20260425T194222
CREATED:20161129T233907Z
LAST-MODIFIED:20161129T233907Z
UID:813-1480611600-1480629600@kalaacademygoa.co.in
SUMMARY:Annaul Day
DESCRIPTION:
URL:https://kalaacademygoa.co.in/event/annaul-day/
LOCATION:OAA
END:VEVENT
BEGIN:VEVENT
DTSTART;TZID=UTC:20161201T090000
DTEND;TZID=UTC:20161201T233000
DTSTAMP:20260425T194222
CREATED:20161129T234111Z
LAST-MODIFIED:20161129T234131Z
UID:817-1480582800-1480635000@kalaacademygoa.co.in
SUMMARY:Marathi Drama "A" Group
DESCRIPTION:
URL:https://kalaacademygoa.co.in/event/marathi-drama-a-group-5/
LOCATION:DMKM
END:VEVENT
BEGIN:VEVENT
DTSTART;TZID=UTC:20161201T090000
DTEND;TZID=UTC:20161201T233000
DTSTAMP:20260425T194222
CREATED:20161129T233751Z
LAST-MODIFIED:20161129T233751Z
UID:811-1480582800-1480635000@kalaacademygoa.co.in
SUMMARY:Marathi Drama "A" Group
DESCRIPTION:
URL:https://kalaacademygoa.co.in/event/marathi-drama-a-group-4/
LOCATION:Meeting Room
END:VEVENT
BEGIN:VEVENT
DTSTART;TZID=UTC:20161201T090000
DTEND;TZID=UTC:20161201T233000
DTSTAMP:20260425T194222
CREATED:20161129T233632Z
LAST-MODIFIED:20161129T233632Z
UID:809-1480582800-1480635000@kalaacademygoa.co.in
SUMMARY:Muscical Programme
DESCRIPTION:
URL:https://kalaacademygoa.co.in/event/muscical-programme-2/
LOCATION:Darya Sangam
END:VEVENT
BEGIN:VEVENT
DTSTART;TZID=UTC:20161130T100000
DTEND;TZID=UTC:20161130T140000
DTSTAMP:20260425T194222
CREATED:20161129T234801Z
LAST-MODIFIED:20161129T234801Z
UID:825-1480500000-1480514400@kalaacademygoa.co.in
SUMMARY:Annaul Day ( Rehearsal )
DESCRIPTION:
URL:https://kalaacademygoa.co.in/event/annaul-day-rehearsal/
LOCATION:OAA
END:VEVENT
BEGIN:VEVENT
DTSTART;TZID=UTC:20161130T090000
DTEND;TZID=UTC:20161130T233000
DTSTAMP:20260425T194222
CREATED:20161129T234919Z
LAST-MODIFIED:20161129T234919Z
UID:827-1480496400-1480548600@kalaacademygoa.co.in
SUMMARY:Marathi Drama "A" Group
DESCRIPTION:
URL:https://kalaacademygoa.co.in/event/marathi-drama-a-group-7/
LOCATION:DMKM
END:VEVENT
BEGIN:VEVENT
DTSTART;TZID=UTC:20161130T090000
DTEND;TZID=UTC:20161130T233000
DTSTAMP:20260425T194222
CREATED:20161129T233236Z
LAST-MODIFIED:20161129T233236Z
UID:799-1480496400-1480548600@kalaacademygoa.co.in
SUMMARY:Marathi Drama "A" Group
DESCRIPTION:
URL:https://kalaacademygoa.co.in/event/marathi-drama-a-group-3/
LOCATION:DMKM
END:VEVENT
BEGIN:VEVENT
DTSTART;TZID=UTC:20161130T080000
DTEND;TZID=UTC:20161130T170000
DTSTAMP:20260425T194222
CREATED:20161129T234243Z
LAST-MODIFIED:20161129T234243Z
UID:819-1480492800-1480525200@kalaacademygoa.co.in
SUMMARY:Marathi Drama "A" Group
DESCRIPTION:
URL:https://kalaacademygoa.co.in/event/marathi-drama-a-group-6/
LOCATION:Meeting Room
END:VEVENT
BEGIN:VEVENT
DTSTART;TZID=UTC:20161129T170000
DTEND;TZID=UTC:20161129T220000
DTSTAMP:20260425T194222
CREATED:20161129T052048Z
LAST-MODIFIED:20161129T052048Z
UID:782-1480438800-1480456800@kalaacademygoa.co.in
SUMMARY:Annual Day
DESCRIPTION:
URL:https://kalaacademygoa.co.in/event/annual-day/
LOCATION:OAA
END:VEVENT
BEGIN:VEVENT
DTSTART;TZID=UTC:20161129T090000
DTEND;TZID=UTC:20161129T233000
DTSTAMP:20260425T194222
CREATED:20161129T053225Z
LAST-MODIFIED:20161129T053225Z
UID:790-1480410000-1480462200@kalaacademygoa.co.in
SUMMARY:Marathi Drama "A" Group
DESCRIPTION:
URL:https://kalaacademygoa.co.in/event/marathi-drama-a-group/
LOCATION:Meeting Room
END:VEVENT
BEGIN:VEVENT
DTSTART;TZID=UTC:20161104T100000
DTEND;TZID=UTC:20161104T193000
DTSTAMP:20260425T194222
CREATED:20161031T033223Z
LAST-MODIFIED:20161031T033223Z
UID:743-1478253600-1478287800@kalaacademygoa.co.in
SUMMARY:State Art Exhibition
DESCRIPTION:
URL:https://kalaacademygoa.co.in/event/state-art-exhibition-5/
LOCATION:Art Gallery
END:VEVENT
BEGIN:VEVENT
DTSTART;TZID=UTC:20161104T090000
DTEND;TZID=UTC:20161104T233500
DTSTAMP:20260425T194222
CREATED:20161031T034158Z
LAST-MODIFIED:20161031T034158Z
UID:751-1478250000-1478302500@kalaacademygoa.co.in
SUMMARY:Surashree Kesarbai Sangeet Samaroh
DESCRIPTION:
URL:https://kalaacademygoa.co.in/event/surashree-kesarbai-sangeet-samaroh-4/
LOCATION:OAA
END:VEVENT
BEGIN:VEVENT
DTSTART;TZID=UTC:20161104T090000
DTEND;TZID=UTC:20161104T233000
DTSTAMP:20260425T194222
CREATED:20161031T033618Z
LAST-MODIFIED:20161031T033618Z
UID:749-1478250000-1478302200@kalaacademygoa.co.in
SUMMARY:Surashree Kesarbai Sangeet Samaroh
DESCRIPTION:
URL:https://kalaacademygoa.co.in/event/surashree-kesarbai-sangeet-samaroh-3/
LOCATION:Black Box\, KA-PDS
END:VEVENT
BEGIN:VEVENT
DTSTART;TZID=UTC:20161104T090000
DTEND;TZID=UTC:20161104T233000
DTSTAMP:20260425T194222
CREATED:20161031T033510Z
LAST-MODIFIED:20161031T033510Z
UID:747-1478250000-1478302200@kalaacademygoa.co.in
SUMMARY:Refreshments
DESCRIPTION:
URL:https://kalaacademygoa.co.in/event/refreshments-3/
LOCATION:Meeting Room
END:VEVENT
BEGIN:VEVENT
DTSTART;TZID=UTC:20161104T090000
DTEND;TZID=UTC:20161104T233000
DTSTAMP:20260425T194222
CREATED:20161031T033353Z
LAST-MODIFIED:20161031T033353Z
UID:745-1478250000-1478302200@kalaacademygoa.co.in
SUMMARY:Surashree Kesarbai Sangeet Samaroh
DESCRIPTION:
URL:https://kalaacademygoa.co.in/event/surashree-kesarbai-sangeet-samaroh-2/
LOCATION:Foyer Area
END:VEVENT
BEGIN:VEVENT
DTSTART;TZID=UTC:20161104T090000
DTEND;TZID=UTC:20161104T233000
DTSTAMP:20260425T194222
CREATED:20161031T033138Z
LAST-MODIFIED:20161031T041924Z
UID:741-1478250000-1478302200@kalaacademygoa.co.in
SUMMARY:Surashree Kesarbai Sangeet Samaroh
DESCRIPTION:Prog. Will start at 5:00 p.m
URL:https://kalaacademygoa.co.in/event/surashree-kesarbai-sangeet-samaroh/
LOCATION:DMKM
END:VEVENT
BEGIN:VEVENT
DTSTART;TZID=UTC:20161104T080000
DTEND;TZID=UTC:20161106T170000
DTSTAMP:20260425T194222
CREATED:20161031T015823Z
LAST-MODIFIED:20161031T043108Z
UID:710-1478246400-1478451600@kalaacademygoa.co.in
SUMMARY:36th Surashree Kesarbai Kerkar Sangeet Samaroha-2016
DESCRIPTION:Click to view
URL:https://kalaacademygoa.co.in/event/36th-surashree-kesarbai-kerkar-sangeet-samaroha-2016/
ATTACH;FMTTYPE=image/jpeg:https://kalaacademygoa.co.in/wp-content/uploads/2016/10/KESAR-poster-1.jpg
END:VEVENT
BEGIN:VEVENT
DTSTART;TZID=UTC:20161103T100000
DTEND;TZID=UTC:20161103T193000
DTSTAMP:20260425T194222
CREATED:20161031T033027Z
LAST-MODIFIED:20161031T033027Z
UID:739-1478167200-1478201400@kalaacademygoa.co.in
SUMMARY:State Art Exhibition
DESCRIPTION:
URL:https://kalaacademygoa.co.in/event/state-art-exhibition-4/
LOCATION:Art Gallery
END:VEVENT
BEGIN:VEVENT
DTSTART;TZID=UTC:20161103T090000
DTEND;TZID=UTC:20161103T233000
DTSTAMP:20260425T194222
CREATED:20161031T032658Z
LAST-MODIFIED:20161031T032658Z
UID:733-1478163600-1478215800@kalaacademygoa.co.in
SUMMARY:Surashree Kesarbai Sangeet Samaroh arrangements
DESCRIPTION:
URL:https://kalaacademygoa.co.in/event/surashree-kesarbai-sangeet-samaroh-arrangements-2/
LOCATION:Black Box\, KA-PDS
END:VEVENT
BEGIN:VEVENT
DTSTART;TZID=UTC:20161103T090000
DTEND;TZID=UTC:20161103T233000
DTSTAMP:20260425T194222
CREATED:20161031T032530Z
LAST-MODIFIED:20161031T032530Z
UID:731-1478163600-1478215800@kalaacademygoa.co.in
SUMMARY:Surashree Kesarbai Sangeet Samaroh arrangements
DESCRIPTION:
URL:https://kalaacademygoa.co.in/event/surashree-kesarbai-sangeet-samaroh-arrangements/
LOCATION:DMKM
END:VEVENT
BEGIN:VEVENT
DTSTART;TZID=UTC:20161103T050000
DTEND;TZID=UTC:20161103T233000
DTSTAMP:20260425T194222
CREATED:20161031T032855Z
LAST-MODIFIED:20161031T032855Z
UID:735-1478149200-1478215800@kalaacademygoa.co.in
SUMMARY:Konkani Musical Concert
DESCRIPTION:
URL:https://kalaacademygoa.co.in/event/konkani-musical-concert/
LOCATION:OAA
END:VEVENT
BEGIN:VEVENT
DTSTART;TZID=UTC:20161102T140000
DTEND;TZID=UTC:20161102T233000
DTSTAMP:20260425T194222
CREATED:20161031T031541Z
LAST-MODIFIED:20161031T041445Z
UID:717-1478095200-1478129400@kalaacademygoa.co.in
SUMMARY:Swaranjali Musical Concert
DESCRIPTION:Prog. Will start at 7:00 p.m
URL:https://kalaacademygoa.co.in/event/swaranjali-musical-concert/
LOCATION:DMKM
END:VEVENT
BEGIN:VEVENT
DTSTART;TZID=UTC:20161102T100000
DTEND;TZID=UTC:20161102T193000
DTSTAMP:20260425T194222
CREATED:20161031T031655Z
LAST-MODIFIED:20161031T031655Z
UID:721-1478080800-1478115000@kalaacademygoa.co.in
SUMMARY:State Art Exhibition
DESCRIPTION:
URL:https://kalaacademygoa.co.in/event/state-art-exhibition-3/
LOCATION:Art Gallery
END:VEVENT
END:VCALENDAR