BEGIN:VCALENDAR
VERSION:2.0
PRODID:-//KALA ACADEMY GOA - ECPv6.15.20//NONSGML v1.0//EN
CALSCALE:GREGORIAN
METHOD:PUBLISH
X-ORIGINAL-URL:https://kalaacademygoa.co.in
X-WR-CALDESC:Events for KALA ACADEMY GOA
REFRESH-INTERVAL;VALUE=DURATION:PT1H
X-Robots-Tag:noindex
X-PUBLISHED-TTL:PT1H
BEGIN:VTIMEZONE
TZID:UTC
BEGIN:STANDARD
TZOFFSETFROM:+0000
TZOFFSETTO:+0000
TZNAME:UTC
DTSTART:20200101T000000
END:STANDARD
END:VTIMEZONE
BEGIN:VEVENT
DTSTART;TZID=UTC:20211209T190000
DTEND;TZID=UTC:20211220T220000
DTSTAMP:20260424T205513
CREATED:20211125T021449Z
LAST-MODIFIED:20211125T021545Z
UID:3461-1639076400-1640037600@kalaacademygoa.co.in
SUMMARY:Programme of Marathi "A" Group Drama Competition
DESCRIPTION:Click here to read more 
URL:https://kalaacademygoa.co.in/event/programme-of-marathi-a-group-drama-competition/
LOCATION:Ravindra Bhavan\, Desai Nagar\, 2432\, Desai Nagar\, Sanquelim\, Goa 403505\, India
CATEGORIES:UPCOMING EVENTS
END:VEVENT
BEGIN:VEVENT
DTSTART;TZID=UTC:20220126T183000
DTEND;TZID=UTC:20220126T220000
DTSTAMP:20260424T205513
CREATED:20220124T063832Z
LAST-MODIFIED:20220124T063832Z
UID:3594-1643221800-1643234400@kalaacademygoa.co.in
SUMMARY:Republic Day Programme
DESCRIPTION:
URL:https://kalaacademygoa.co.in/event/republic-day-programme/
CATEGORIES:UPCOMING EVENTS
END:VEVENT
BEGIN:VEVENT
DTSTART;TZID=UTC:20220207T193000
DTEND;TZID=UTC:20220207T220000
DTSTAMP:20260424T205513
CREATED:20220225T063016Z
LAST-MODIFIED:20220226T015442Z
UID:3655-1644262200-1644271200@kalaacademygoa.co.in
SUMMARY:Special Programme on Bharat Ratna Lata Mangeshkar
DESCRIPTION:Click image to Enlarge
URL:https://kalaacademygoa.co.in/event/special-programme-on-bharat-ratna-lata-mangeshkar/
CATEGORIES:UPCOMING EVENTS
END:VEVENT
BEGIN:VEVENT
DTSTART;TZID=UTC:20220304T190000
DTEND;TZID=UTC:20220306T220000
DTSTAMP:20260424T205513
CREATED:20220225T062033Z
LAST-MODIFIED:20220225T062144Z
UID:3640-1646420400-1646604000@kalaacademygoa.co.in
SUMMARY:"Nupur" Classical Dance Festival
DESCRIPTION:  \n  \n \nNupur Classical Dance Festival
URL:https://kalaacademygoa.co.in/event/nupur-classical-dance-festival/
CATEGORIES:UPCOMING EVENTS
END:VEVENT
BEGIN:VEVENT
DTSTART;TZID=UTC:20220307T190000
DTEND;TZID=UTC:20220328T220000
DTSTAMP:20260424T205513
CREATED:20220225T232044Z
LAST-MODIFIED:20220225T232044Z
UID:3645-1646679600-1648504800@kalaacademygoa.co.in
SUMMARY:Programme of 46th Konkani Drama Competiton 2021-22
DESCRIPTION:Programme of 46th Konkani Drama Competiton 2021-22
URL:https://kalaacademygoa.co.in/event/programme-of-46th-konkani-drama-competiton-2021-22/
LOCATION:Rajiv Gandhi Kala mandir\, Ponda  Goa
CATEGORIES:UPCOMING EVENTS
END:VEVENT
END:VCALENDAR