BEGIN:VCALENDAR
VERSION:2.0
PRODID:-//KALA ACADEMY GOA - ECPv6.15.20//NONSGML v1.0//EN
CALSCALE:GREGORIAN
METHOD:PUBLISH
X-WR-CALNAME:KALA ACADEMY GOA
X-ORIGINAL-URL:https://kalaacademygoa.co.in
X-WR-CALDESC:Events for KALA ACADEMY GOA
REFRESH-INTERVAL;VALUE=DURATION:PT1H
X-Robots-Tag:noindex
X-PUBLISHED-TTL:PT1H
BEGIN:VTIMEZONE
TZID:UTC
BEGIN:STANDARD
TZOFFSETFROM:+0000
TZOFFSETTO:+0000
TZNAME:UTC
DTSTART:20170101T000000
END:STANDARD
END:VTIMEZONE
BEGIN:VEVENT
DTSTART;VALUE=DATE:20191214
DTEND;VALUE=DATE:20191216
DTSTAMP:20260424T040319
CREATED:20191209T034913Z
LAST-MODIFIED:20191209T035109Z
UID:2192-1576281600-1576454399@kalaacademygoa.co.in
SUMMARY:Programme of Bal Yuva Kirtan Competition 2019
DESCRIPTION:Programme of Bal Yuva Kirtan Competition 2019
URL:https://kalaacademygoa.co.in/event/programme-of-bal-yuva-kirtan-competition-2019/
CATEGORIES:UPCOMING EVENTS
ATTACH;FMTTYPE=image/jpeg:https://kalaacademygoa.co.in/wp-content/uploads/2019/12/Programme-of-Bal-Yuva-Kirta.jpg
END:VEVENT
BEGIN:VEVENT
DTSTART;TZID=UTC:20191126T153000
DTEND;TZID=UTC:20191126T170000
DTSTAMP:20260424T040319
CREATED:20191115T061740Z
LAST-MODIFIED:20210212T234202Z
UID:2937-1574782200-1574787600@kalaacademygoa.co.in
SUMMARY:Rules and Entry Form of Children Drawing Competition
DESCRIPTION:Click here to view Rules and Entry Form of Children Drawing Competition
URL:https://kalaacademygoa.co.in/event/rules-and-entry-form-of-children-drawing-competition/
CATEGORIES:UPCOMING EVENTS
END:VEVENT
BEGIN:VEVENT
DTSTART;VALUE=DATE:20191122
DTEND;VALUE=DATE:20191123
DTSTAMP:20260424T040319
CREATED:20191122T062458Z
LAST-MODIFIED:20210212T231833Z
UID:2949-1574380800-1574467199@kalaacademygoa.co.in
SUMMARY:Rules & Regulations of Sangeet Natak Mahotsav
DESCRIPTION:Click here to view Rules & Regulations of Sangeet Natak Mahotsav
URL:https://kalaacademygoa.co.in/event/rules-regulations-of-sangeet-natak-mahotsav/
CATEGORIES:UPCOMING EVENTS
END:VEVENT
BEGIN:VEVENT
DTSTART;TZID=UTC:20191115T103000
DTEND;TZID=UTC:20191117T220000
DTSTAMP:20260424T040319
CREATED:20191113T003149Z
LAST-MODIFIED:20191113T003149Z
UID:2167-1573813800-1574028000@kalaacademygoa.co.in
SUMMARY:Invitation of 39th Surashree Kesarbai Kerkar Sangeet Samaroha 2019
DESCRIPTION:Invitation of 39th Surashree Kesarbai Kerkar Sangeet Samaroha 2019
URL:https://kalaacademygoa.co.in/event/invitation-of-39th-surashree-kesarbai-kerkar-sangeet-samaroha-2019-2/
LOCATION:Rajiv Gandhi Kala mandir\, Ponda  Goa
CATEGORIES:UPCOMING EVENTS
ATTACH;FMTTYPE=image/jpeg:https://kalaacademygoa.co.in/wp-content/uploads/2019/11/Surashree-Kesarbai-Kerkar-S-1-e1573624772100.jpg
END:VEVENT
BEGIN:VEVENT
DTSTART;TZID=UTC:20191115T103000
DTEND;TZID=UTC:20191115T103000
DTSTAMP:20260424T040319
CREATED:20191105T053104Z
LAST-MODIFIED:20191113T003243Z
UID:2142-1573813800-1573813800@kalaacademygoa.co.in
SUMMARY:Curtain Raiser Programme of 39th Surashree Kesarbai Kerkar Sangeet Samaroha 2019
DESCRIPTION:Curtain Raiser Programme of 39th Surashree Kesarbai Kerkar Sangeet Samaroha 2019
URL:https://kalaacademygoa.co.in/event/invitation-of-39th-surashree-kesarbai-kerkar-sangeet-samaroha-2019/
LOCATION:Rajiv Gandhi Kala mandir\, Ponda  Goa
CATEGORIES:UPCOMING EVENTS
ATTACH;FMTTYPE=image/jpeg:https://kalaacademygoa.co.in/wp-content/uploads/2019/11/Surashree-Kesarbai-Kerkar-S.jpg
END:VEVENT
BEGIN:VEVENT
DTSTART;TZID=UTC:20191101T174500
DTEND;TZID=UTC:20191102T220000
DTSTAMP:20260424T040319
CREATED:20191018T020046Z
LAST-MODIFIED:20191018T020656Z
UID:2131-1572630300-1572732000@kalaacademygoa.co.in
SUMMARY:Invitation- Pravah Dance Festival 2019
DESCRIPTION:Click here to download Invitation- Pravah Dance Festival 2019
URL:https://kalaacademygoa.co.in/event/invitation-pravah-dance-festival-2019/
LOCATION:Rajiv Gandhi Kala mandir\, Ponda  Goa
CATEGORIES:UPCOMING EVENTS
ATTACH;FMTTYPE=image/jpeg:https://kalaacademygoa.co.in/wp-content/uploads/2019/10/Invitation1.jpg
END:VEVENT
BEGIN:VEVENT
DTSTART;TZID=UTC:20191009T190000
DTEND;TZID=UTC:20191031T190000
DTSTAMP:20260424T040319
CREATED:20191003T050651Z
LAST-MODIFIED:20191003T050748Z
UID:2115-1570647600-1572548400@kalaacademygoa.co.in
SUMMARY:Programme of Marathi Drama 'B' Group Competition
DESCRIPTION:Programme of Marathi Drama ‘B’ Group Competition
URL:https://kalaacademygoa.co.in/event/programme-of-marathi-drama-b-group-competition/
CATEGORIES:UPCOMING EVENTS
ATTACH;FMTTYPE=image/jpeg:https://kalaacademygoa.co.in/wp-content/uploads/2019/10/Programme-of-Marathi-Drama-B-Group-Competition.jpg
END:VEVENT
BEGIN:VEVENT
DTSTART;TZID=UTC:20190914T100000
DTEND;TZID=UTC:20190915T220000
DTSTAMP:20260424T040319
CREATED:20190821T230118Z
LAST-MODIFIED:20190909T053759Z
UID:2094-1568455200-1568584800@kalaacademygoa.co.in
SUMMARY:Invitation- Pt. Jitendra Abhisheki Sangeet Mahotsav 2019
DESCRIPTION:Invitation of Pt. Jitendra Abhisheki Sangeet Mahotsav \nPt. Jitendra Abhisheki Mahotsav- Accompanists
URL:https://kalaacademygoa.co.in/event/invitation-pt-jitendra-abhisheki-sangeet-mahotsav-2019/
LOCATION:Rajiv Gandhi Kala mandir\, Ponda  Goa
CATEGORIES:UPCOMING EVENTS
ATTACH;FMTTYPE=image/jpeg:https://kalaacademygoa.co.in/wp-content/uploads/2019/08/Invitation-of-Pt.-Jitendra-Abhisheki-Sangeet-Mahotsav.jpg
END:VEVENT
BEGIN:VEVENT
DTSTART;TZID=UTC:20190815T093000
DTEND;TZID=UTC:20190815T093000
DTSTAMP:20260424T040319
CREATED:20190813T043158Z
LAST-MODIFIED:20190813T043158Z
UID:2082-1565861400-1565861400@kalaacademygoa.co.in
SUMMARY:State Level Bhajan Competition in Gents Category
DESCRIPTION:State Level Bhajan Competition in Gents Category \n 
URL:https://kalaacademygoa.co.in/event/state-level-bhajan-competition-in-gents-category/
CATEGORIES:UPCOMING EVENTS
ATTACH;FMTTYPE=image/jpeg:https://kalaacademygoa.co.in/wp-content/uploads/2019/08/Final-Gents-Bhajan-Standee.jpg
END:VEVENT
BEGIN:VEVENT
DTSTART;TZID=UTC:20190807T080000
DTEND;TZID=UTC:20190807T170000
DTSTAMP:20260424T040319
CREATED:20190807T051031Z
LAST-MODIFIED:20190807T051031Z
UID:2056-1565164800-1565197200@kalaacademygoa.co.in
SUMMARY:State Level Bhajan Competition in Ladies Category
DESCRIPTION:State Level Bhajan Competition in Ladies Category
URL:https://kalaacademygoa.co.in/event/state-level-bhajan-competition-in-ladies-category/
CATEGORIES:UPCOMING EVENTS
ATTACH;FMTTYPE=image/jpeg:https://kalaacademygoa.co.in/wp-content/uploads/2019/08/State-Level-Bhajan-Competition-in-Ladies-Category.jpg
END:VEVENT
BEGIN:VEVENT
DTSTART;TZID=UTC:20190804T100000
DTEND;TZID=UTC:20190804T100000
DTSTAMP:20260424T040319
CREATED:20190802T074109Z
LAST-MODIFIED:20190802T074321Z
UID:2022-1564912800-1564912800@kalaacademygoa.co.in
SUMMARY:State Level Bhajan Competition in Children Competition
DESCRIPTION:State Level Bhajan Competition in Children Competition
URL:https://kalaacademygoa.co.in/event/state-level-bhajan-competition-in-children-competition/
CATEGORIES:UPCOMING EVENTS
ATTACH;FMTTYPE=image/jpeg:https://kalaacademygoa.co.in/wp-content/uploads/2019/08/State_Level_Bhajan_Competition_ChildrenCategory.jpg
END:VEVENT
BEGIN:VEVENT
DTSTART;TZID=UTC:20190724T160000
DTEND;TZID=UTC:20190724T160000
DTSTAMP:20260424T040319
CREATED:20190722T041317Z
LAST-MODIFIED:20190722T041539Z
UID:2012-1563984000-1563984000@kalaacademygoa.co.in
SUMMARY:Invitation - Vishnumay Jag
DESCRIPTION:
URL:https://kalaacademygoa.co.in/event/invitation-vishnumay-jag/
LOCATION:DMKM
CATEGORIES:UPCOMING EVENTS
ATTACH;FMTTYPE=image/jpeg:https://kalaacademygoa.co.in/wp-content/uploads/2019/07/Invitation-1-1.jpg
END:VEVENT
BEGIN:VEVENT
DTSTART;TZID=UTC:20190715T173000
DTEND;TZID=UTC:20190715T173000
DTSTAMP:20260424T040319
CREATED:20190712T011356Z
LAST-MODIFIED:20190712T012822Z
UID:1965-1563211800-1563211800@kalaacademygoa.co.in
SUMMARY:Invitation of Golden Jubilee Celebration
DESCRIPTION:  \n \n  \nInvitation of Golden Jubilee Celebration
URL:https://kalaacademygoa.co.in/event/invitation-of-golden-jubilee-celebration/
LOCATION:DMKM
CATEGORIES:UPCOMING EVENTS
END:VEVENT
BEGIN:VEVENT
DTSTART;TZID=UTC:20190714T170000
DTEND;TZID=UTC:20190714T170000
DTSTAMP:20260424T040319
CREATED:20190711T013721Z
LAST-MODIFIED:20190712T064037Z
UID:1957-1563123600-1563123600@kalaacademygoa.co.in
SUMMARY:Abhangrang - Devotional Music Concert
DESCRIPTION:Abhangrang – Devotional Music Concert
URL:https://kalaacademygoa.co.in/event/abhangrang-devotional-music-concert/
LOCATION:DMKM
CATEGORIES:UPCOMING EVENTS
ATTACH;FMTTYPE=image/jpeg:https://kalaacademygoa.co.in/wp-content/uploads/2016/09/imgpsh_fullsize_anim.jpg
END:VEVENT
BEGIN:VEVENT
DTSTART;TZID=UTC:20190711T170000
DTEND;TZID=UTC:20190711T170000
DTSTAMP:20260424T040319
CREATED:20190709T003230Z
LAST-MODIFIED:20190709T053740Z
UID:1944-1562864400-1562864400@kalaacademygoa.co.in
SUMMARY:Invitation of Gomant Rangbhoomi Din
DESCRIPTION:Invitation of Gomant Rangbhoomi Din
URL:https://kalaacademygoa.co.in/event/invitation-of-gomant-rangbhoomi-din/
LOCATION:DMKM
CATEGORIES:UPCOMING EVENTS
END:VEVENT
BEGIN:VEVENT
DTSTART;TZID=UTC:20190705T190000
DTEND;TZID=UTC:20190706T100000
DTSTAMP:20260424T040319
CREATED:20190704T235940Z
LAST-MODIFIED:20190705T000406Z
UID:1942-1562353200-1562407200@kalaacademygoa.co.in
SUMMARY:New Play Production of Rangamel\, Kala Academy Goa
DESCRIPTION:
URL:https://kalaacademygoa.co.in/event/new-play-production-of-rangamel-kala-academy-goa/
LOCATION:DMKM
CATEGORIES:UPCOMING EVENTS
END:VEVENT
BEGIN:VEVENT
DTSTART;TZID=UTC:20190530T163000
DTEND;TZID=UTC:20190530T180000
DTSTAMP:20260424T040319
CREATED:20190528T004454Z
LAST-MODIFIED:20190528T004753Z
UID:1905-1559233800-1559239200@kalaacademygoa.co.in
SUMMARY:Prize Distribution Function
DESCRIPTION:Prize Distribution Function
URL:https://kalaacademygoa.co.in/event/prize-distribution-function/
CATEGORIES:UPCOMING EVENTS
ATTACH;FMTTYPE=image/jpeg:https://kalaacademygoa.co.in/wp-content/uploads/2019/05/Banner-Prize-Distribution-Function-003.jpg
END:VEVENT
BEGIN:VEVENT
DTSTART;TZID=UTC:20190524T080000
DTEND;TZID=UTC:20190524T170000
DTSTAMP:20260424T040319
CREATED:20190519T005131Z
LAST-MODIFIED:20200528T005903Z
UID:2596-1558684800-1558717200@kalaacademygoa.co.in
SUMMARY:Prize Distribution Function
DESCRIPTION:Prize Distribution Function
URL:https://kalaacademygoa.co.in/event/bhajan-booklet/
CATEGORIES:UPCOMING EVENTS
END:VEVENT
BEGIN:VEVENT
DTSTART;VALUE=DATE:20190425
DTEND;VALUE=DATE:20190426
DTSTAMP:20260424T040319
CREATED:20190112T063142Z
LAST-MODIFIED:20210212T232155Z
UID:2953-1556150400-1556236799@kalaacademygoa.co.in
SUMMARY:Prospectus of 45th State Art Exhibition in Artist Category
DESCRIPTION:Click here for Prospectus of 45th State Art Exhibition in Artist Category
URL:https://kalaacademygoa.co.in/event/prospectus-of-45th-state-art-exhibition-in-artist-category/
CATEGORIES:UPCOMING EVENTS
END:VEVENT
BEGIN:VEVENT
DTSTART;VALUE=DATE:20190308
DTEND;VALUE=DATE:20190309
DTSTAMP:20260424T040319
CREATED:20190112T064910Z
LAST-MODIFIED:20210212T232130Z
UID:2958-1552003200-1552089599@kalaacademygoa.co.in
SUMMARY:Booklet of Bhajan Competition 2019-20
DESCRIPTION:Click here to view Booklet of Bhajan Competition 2019-20
URL:https://kalaacademygoa.co.in/event/booklet-of-bhajan-competition-2019-20/
CATEGORIES:UPCOMING EVENTS
END:VEVENT
BEGIN:VEVENT
DTSTART;VALUE=DATE:20190223
DTEND;VALUE=DATE:20190224
DTSTAMP:20260424T040319
CREATED:20190112T065052Z
LAST-MODIFIED:20210212T232059Z
UID:2960-1550880000-1550966399@kalaacademygoa.co.in
SUMMARY:Booklet of Bal Yuva Kirtan Competition
DESCRIPTION:Click here to view Booklet of Bal Yuva Kirtan Competition
URL:https://kalaacademygoa.co.in/event/booklet-of-bal-yuva-kirtan-competition/
CATEGORIES:UPCOMING EVENTS
END:VEVENT
BEGIN:VEVENT
DTSTART;VALUE=DATE:20190215
DTEND;VALUE=DATE:20190216
DTSTAMP:20260424T040319
CREATED:20190112T065914Z
LAST-MODIFIED:20210212T232017Z
UID:2964-1550188800-1550275199@kalaacademygoa.co.in
SUMMARY:Booklet  One Act Play Competition at High School & Higher Secondary\,College Level
DESCRIPTION:Click here to view Booklet One Act Play Competition at High School & Higher Secondary\,College Level
URL:https://kalaacademygoa.co.in/event/booklet-one-act-play-competition-at-high-school-higher-secondarycollege-level/
CATEGORIES:UPCOMING EVENTS
END:VEVENT
BEGIN:VEVENT
DTSTART;VALUE=DATE:20190212
DTEND;VALUE=DATE:20190213
DTSTAMP:20260424T040319
CREATED:20190212T065251Z
LAST-MODIFIED:20210212T231918Z
UID:2962-1549929600-1550015999@kalaacademygoa.co.in
SUMMARY:Booklet of  Tiatr 'A' & 'B' Group Competition
DESCRIPTION:Click here to view Booklet of Tiatr ‘A’ & ‘B’ Group Competition
URL:https://kalaacademygoa.co.in/event/booklet-of-tiatr-a-b-group-competition/
CATEGORIES:UPCOMING EVENTS
END:VEVENT
BEGIN:VEVENT
DTSTART;VALUE=DATE:20190201
DTEND;VALUE=DATE:20190202
DTSTAMP:20260424T040319
CREATED:20190110T064321Z
LAST-MODIFIED:20210212T231743Z
UID:2955-1548979200-1549065599@kalaacademygoa.co.in
SUMMARY:Booklet of of Marathi Drama 'A' & 'B' Group Competition 2019-20
DESCRIPTION:Click here to view Booklet of of Marathi Drama ‘A’ & ‘B’ Group Competition 2019-20
URL:https://kalaacademygoa.co.in/event/booklet-of-of-marathi-drama-a-b-group-competition-2019-20/
CATEGORIES:UPCOMING EVENTS
END:VEVENT
BEGIN:VEVENT
DTSTART;VALUE=DATE:20190112
DTEND;VALUE=DATE:20190113
DTSTAMP:20260424T040319
CREATED:20190112T070306Z
LAST-MODIFIED:20210212T231949Z
UID:2966-1547251200-1547337599@kalaacademygoa.co.in
SUMMARY:Booklet  of Choir (Hymns) Singing Competition
DESCRIPTION:Click here to view Booklet of Choir (Hymns) Singing Competition
URL:https://kalaacademygoa.co.in/event/booklet-of-choir-hymns-singing-competition/
CATEGORIES:UPCOMING EVENTS
END:VEVENT
BEGIN:VEVENT
DTSTART;VALUE=DATE:20190105
DTEND;VALUE=DATE:20190107
DTSTAMP:20260424T040319
CREATED:20181211T233009Z
LAST-MODIFIED:20181212T000031Z
UID:1805-1546646400-1546819199@kalaacademygoa.co.in
SUMMARY:Bal Yuva Kirtan Competition
DESCRIPTION:Read More >> Booklet of Bal Yuva Kirtan Competition \nThe Bal Yuva Kirtan Competition will be held at Yogeshwari Devasthan\, Kulan-Sarvan\, Sakhali\, in Yuva Category on Saturday\,  5th January 2019\,  from 2.30 p.m onwards & in Bal Category on Sunday \, 6th January 2019\,  from 9.30 a.m onwards. All are invited.
URL:https://kalaacademygoa.co.in/event/bal-yuva-kirtan-competition/
CATEGORIES:UPCOMING EVENTS
ATTACH;FMTTYPE=image/png:https://kalaacademygoa.co.in/wp-content/uploads/2018/12/Booklet-of-Bal-Yuva-Kirtan.png
END:VEVENT
BEGIN:VEVENT
DTSTART;VALUE=DATE:20181217
DTEND;VALUE=DATE:20190110
DTSTAMP:20260424T040319
CREATED:20181211T225842Z
LAST-MODIFIED:20210212T232532Z
UID:1795-1545004800-1547078399@kalaacademygoa.co.in
SUMMARY:Programme of Marathi Drama 'A' Group Competition 2018-19
DESCRIPTION:
URL:https://kalaacademygoa.co.in/event/programme-of-marathi-drama-a-group-competition-2018-19/
CATEGORIES:UPCOMING EVENTS
ATTACH;FMTTYPE=image/jpeg:https://kalaacademygoa.co.in/wp-content/uploads/2018/12/51st-MArathi-A-Group-Programme.jpg
END:VEVENT
BEGIN:VEVENT
DTSTART;VALUE=DATE:20181212
DTEND;VALUE=DATE:20190201
DTSTAMP:20260424T040319
CREATED:20181211T231518Z
LAST-MODIFIED:20181211T235928Z
UID:1800-1544572800-1548979199@kalaacademygoa.co.in
SUMMARY:Booklet of Konkani Drama Competition
DESCRIPTION:Read more >> Konkani Drama Competition Booklet
URL:https://kalaacademygoa.co.in/event/booklet-of-konkani-drama-competition/
CATEGORIES:UPCOMING EVENTS
ATTACH;FMTTYPE=image/png:https://kalaacademygoa.co.in/wp-content/uploads/2018/12/Konkani-Drama-Competition-B.png
END:VEVENT
BEGIN:VEVENT
DTSTART;VALUE=DATE:20181102
DTEND;VALUE=DATE:20181105
DTSTAMP:20260424T040319
CREATED:20181030T064935Z
LAST-MODIFIED:20181110T013911Z
UID:1731-1541116800-1541375999@kalaacademygoa.co.in
SUMMARY:Invitation of 38th Surashree Kesarbai Kerkar Sangeet Samaroha & Photos of the artist
DESCRIPTION:
URL:https://kalaacademygoa.co.in/event/invitation-of-38th-surashree-kesarbai-kerkar-sangeet-samaroha-photos-of-the-artist/
CATEGORIES:UPCOMING EVENTS
ATTACH;FMTTYPE=image/jpeg:https://kalaacademygoa.co.in/wp-content/uploads/2018/10/Full-invitation1.jpg
END:VEVENT
BEGIN:VEVENT
DTSTART;VALUE=DATE:20181031
DTEND;VALUE=DATE:20181105
DTSTAMP:20260424T040319
CREATED:20181030T000150Z
LAST-MODIFIED:20181031T000320Z
UID:1723-1540944000-1541375999@kalaacademygoa.co.in
SUMMARY:Invitation of 44th State Art Exhibition - Artist Category
DESCRIPTION:
URL:https://kalaacademygoa.co.in/event/invitation-of-44th-state-art-exhibition-artist-category/
CATEGORIES:UPCOMING EVENTS
ATTACH;FMTTYPE=image/png:https://kalaacademygoa.co.in/wp-content/uploads/2018/10/Invitation.png
END:VEVENT
END:VCALENDAR