BEGIN:VCALENDAR
VERSION:2.0
PRODID:-//KALA ACADEMY GOA - ECPv6.15.20//NONSGML v1.0//EN
CALSCALE:GREGORIAN
METHOD:PUBLISH
X-WR-CALNAME:KALA ACADEMY GOA
X-ORIGINAL-URL:https://kalaacademygoa.co.in
X-WR-CALDESC:Events for KALA ACADEMY GOA
REFRESH-INTERVAL;VALUE=DURATION:PT1H
X-Robots-Tag:noindex
X-PUBLISHED-TTL:PT1H
BEGIN:VTIMEZONE
TZID:UTC
BEGIN:STANDARD
TZOFFSETFROM:+0000
TZOFFSETTO:+0000
TZNAME:UTC
DTSTART:20200101T000000
END:STANDARD
END:VTIMEZONE
BEGIN:VEVENT
DTSTART;TZID=UTC:20210301T070000
DTEND;TZID=UTC:20210326T220000
DTSTAMP:20260424T112516
CREATED:20210217T055925Z
LAST-MODIFIED:20210225T022333Z
UID:2980-1614582000-1616796000@kalaacademygoa.co.in
SUMMARY:Programme of 45th Konkani Drama Competition 2020-2021
DESCRIPTION:Click here for details of 45th Konkani Drama Competition 2020-2021
URL:https://kalaacademygoa.co.in/event/programme-of-45th-konkani-drama-competition-2020-2021/
LOCATION:Rajiv Gandhi Kala mandir\, Ponda  Goa
CATEGORIES:UPCOMING EVENTS
END:VEVENT
BEGIN:VEVENT
DTSTART;TZID=UTC:20210301T190000
DTEND;TZID=UTC:20210307T220000
DTSTAMP:20260424T112516
CREATED:20210225T021506Z
LAST-MODIFIED:20210225T022209Z
UID:3016-1614625200-1615154400@kalaacademygoa.co.in
SUMMARY:Programme of 6th Tiatr 'B' Group Competition 2020-21
DESCRIPTION:Click here to read more about Programme of 6th Tiatr ‘B’ Group Competition 2020-21
URL:https://kalaacademygoa.co.in/event/programme-of-6th-tiatr-b-group-competition-2020-21/
CATEGORIES:UPCOMING EVENTS
END:VEVENT
END:VCALENDAR