BEGIN:VCALENDAR
VERSION:2.0
PRODID:-//KALA ACADEMY GOA - ECPv6.15.20//NONSGML v1.0//EN
CALSCALE:GREGORIAN
METHOD:PUBLISH
X-ORIGINAL-URL:https://kalaacademygoa.co.in
X-WR-CALDESC:Events for KALA ACADEMY GOA
REFRESH-INTERVAL;VALUE=DURATION:PT1H
X-Robots-Tag:noindex
X-PUBLISHED-TTL:PT1H
BEGIN:VTIMEZONE
TZID:UTC
BEGIN:STANDARD
TZOFFSETFROM:+0000
TZOFFSETTO:+0000
TZNAME:UTC
DTSTART:20190101T000000
END:STANDARD
END:VTIMEZONE
BEGIN:VEVENT
DTSTART;TZID=UTC:20200125T170000
DTEND;TZID=UTC:20200225T200000
DTSTAMP:20260424T032607
CREATED:20191218T020423Z
LAST-MODIFIED:20191218T020423Z
UID:2220-1579971600-1582660800@kalaacademygoa.co.in
SUMMARY:Instrumental Music Concerts on 25th January 2020
DESCRIPTION:Instrumental Music Concerts on 25th January 2020
URL:https://kalaacademygoa.co.in/event/instrumental-music-concerts-on-25th-january-2020/
CATEGORIES:UPCOMING EVENTS
ATTACH;FMTTYPE=image/jpeg:https://kalaacademygoa.co.in/wp-content/uploads/2019/12/Instrumental-Music-Concert2.jpg
END:VEVENT
BEGIN:VEVENT
DTSTART;TZID=UTC:20200212T190000
DTEND;TZID=UTC:20200304T220000
DTSTAMP:20260424T032607
CREATED:20200130T224641Z
LAST-MODIFIED:20200130T224641Z
UID:2342-1581534000-1583359200@kalaacademygoa.co.in
SUMMARY:Programme of 45th  Tiatr  'A' Group Competition
DESCRIPTION:Programme of 45th Tiatr ‘A’ Group Competition
URL:https://kalaacademygoa.co.in/event/programme-of-45th-tiatr-a-group-competition/
CATEGORIES:UPCOMING EVENTS
ATTACH;FMTTYPE=image/jpeg:https://kalaacademygoa.co.in/wp-content/uploads/2020/01/Programme-of-45th-Tiatr-A-Group-Competition.jpg
END:VEVENT
BEGIN:VEVENT
DTSTART;TZID=UTC:20200220T080000
DTEND;TZID=UTC:20200220T170000
DTSTAMP:20260424T032607
CREATED:20200220T065911Z
LAST-MODIFIED:20200220T065911Z
UID:2429-1582185600-1582218000@kalaacademygoa.co.in
SUMMARY:Prospectus of 45th State Art Exhibition 2019-20 (Students Category)
DESCRIPTION:Prospectus of 45th State Art Exhibition 2019-20 (Students Category)
URL:https://kalaacademygoa.co.in/event/prospectus-of-45th-state-art-exhibition-2019-20-students-category/
CATEGORIES:UPCOMING EVENTS
ATTACH;FMTTYPE=image/jpeg:https://kalaacademygoa.co.in/wp-content/uploads/2020/02/cover-Prospectus-of-45th-State-Art-Exhibition-2019-20-Students-Category.jpg
END:VEVENT
BEGIN:VEVENT
DTSTART;TZID=UTC:20200220T190000
DTEND;TZID=UTC:20200324T220000
DTSTAMP:20260424T032607
CREATED:20200211T021601Z
LAST-MODIFIED:20200211T021859Z
UID:2408-1582225200-1585087200@kalaacademygoa.co.in
SUMMARY:Programme of Konkani Drama Competition 2019-20
DESCRIPTION:Click here to view list of Programmes of Konkani Drama Competition 2019-2020
URL:https://kalaacademygoa.co.in/event/programme-of-konkani-drama-competition-2019-20/
LOCATION:Rajiv Gandhi Kala mandir\, Ponda  Goa
CATEGORIES:UPCOMING EVENTS
ATTACH;FMTTYPE=image/jpeg:https://kalaacademygoa.co.in/wp-content/uploads/2020/02/Konkani-Drama-Competition-AD.jpg
END:VEVENT
END:VCALENDAR