BEGIN:VCALENDAR
VERSION:2.0
PRODID:-//KALA ACADEMY GOA - ECPv6.15.20//NONSGML v1.0//EN
CALSCALE:GREGORIAN
METHOD:PUBLISH
X-WR-CALNAME:KALA ACADEMY GOA
X-ORIGINAL-URL:https://kalaacademygoa.co.in
X-WR-CALDESC:Events for KALA ACADEMY GOA
REFRESH-INTERVAL;VALUE=DURATION:PT1H
X-Robots-Tag:noindex
X-PUBLISHED-TTL:PT1H
BEGIN:VTIMEZONE
TZID:UTC
BEGIN:STANDARD
TZOFFSETFROM:+0000
TZOFFSETTO:+0000
TZNAME:UTC
DTSTART:20190101T000000
END:STANDARD
END:VTIMEZONE
BEGIN:VEVENT
DTSTART;TZID=UTC:20200105T170000
DTEND;TZID=UTC:20200105T200000
DTSTAMP:20260424T011012
CREATED:20200109T011110Z
LAST-MODIFIED:20200109T011110Z
UID:2243-1578243600-1578254400@kalaacademygoa.co.in
SUMMARY:Rangdevata Swarmamch Programme
DESCRIPTION:Rangdevata Swarmamch Programme
URL:https://kalaacademygoa.co.in/event/rangdevata-swarmamch-programme/
LOCATION:DMKM
CATEGORIES:UPCOMING EVENTS
ATTACH;FMTTYPE=image/jpeg:https://kalaacademygoa.co.in/wp-content/uploads/2020/01/Rangdevata-Swarmamch-Progra.jpg
END:VEVENT
END:VCALENDAR