BEGIN:VCALENDAR
VERSION:2.0
PRODID:-//KALA ACADEMY GOA - ECPv6.15.20//NONSGML v1.0//EN
CALSCALE:GREGORIAN
METHOD:PUBLISH
X-WR-CALNAME:KALA ACADEMY GOA
X-ORIGINAL-URL:https://kalaacademygoa.co.in
X-WR-CALDESC:Events for KALA ACADEMY GOA
REFRESH-INTERVAL;VALUE=DURATION:PT1H
X-Robots-Tag:noindex
X-PUBLISHED-TTL:PT1H
BEGIN:VTIMEZONE
TZID:UTC
BEGIN:STANDARD
TZOFFSETFROM:+0000
TZOFFSETTO:+0000
TZNAME:UTC
DTSTART:20180101T000000
END:STANDARD
END:VTIMEZONE
BEGIN:VEVENT
DTSTART;TZID=UTC:20191205T190000
DTEND;TZID=UTC:20191230T220000
DTSTAMP:20260424T012047
CREATED:20191204T050131Z
LAST-MODIFIED:20191204T051812Z
UID:2182-1575572400-1577743200@kalaacademygoa.co.in
SUMMARY:Programme of 52nd Marathi Drama 'A' Group Competition 2019
DESCRIPTION:Programme of 52nd Marathi Drama ‘A’ Group Competition 2019
URL:https://kalaacademygoa.co.in/event/programme-of-52nd-marathi-drama-a-group-competition-2019/
CATEGORIES:UPCOMING EVENTS
ATTACH;FMTTYPE=image/jpeg:https://kalaacademygoa.co.in/wp-content/uploads/2019/12/Programme-of-52nd-Marathi-D-e1575456475453.jpg
END:VEVENT
BEGIN:VEVENT
DTSTART;TZID=UTC:20191219T183000
DTEND;TZID=UTC:20191219T220000
DTSTAMP:20260424T012047
CREATED:20191216T050726Z
LAST-MODIFIED:20191216T050726Z
UID:2215-1576780200-1576792800@kalaacademygoa.co.in
SUMMARY:"Bhavsargam"- Concert of Marathi Bhavgeet's on the ocassion of Goa Liberation Day 2019
DESCRIPTION:“Bhavsargam”- Concert of Marathi Bhavgeet’s on the ocassion of Goa Liberation Day 2019
URL:https://kalaacademygoa.co.in/event/bhavsargam-concert-of-marathi-bhavgeets-on-the-ocassion-of-goa-liberation-day-2019/
CATEGORIES:UPCOMING EVENTS
ATTACH;FMTTYPE=image/jpeg:https://kalaacademygoa.co.in/wp-content/uploads/2019/12/Bhavsargam-Concert-on-Goa-Liberation-Day--e1576492505610.jpg
END:VEVENT
END:VCALENDAR