BEGIN:VCALENDAR
VERSION:2.0
PRODID:-//KALA ACADEMY GOA - ECPv6.15.20//NONSGML v1.0//EN
CALSCALE:GREGORIAN
METHOD:PUBLISH
X-WR-CALNAME:KALA ACADEMY GOA
X-ORIGINAL-URL:https://kalaacademygoa.co.in
X-WR-CALDESC:Events for KALA ACADEMY GOA
REFRESH-INTERVAL;VALUE=DURATION:PT1H
X-Robots-Tag:noindex
X-PUBLISHED-TTL:PT1H
BEGIN:VTIMEZONE
TZID:UTC
BEGIN:STANDARD
TZOFFSETFROM:+0000
TZOFFSETTO:+0000
TZNAME:UTC
DTSTART:20170101T000000
END:STANDARD
END:VTIMEZONE
BEGIN:VEVENT
DTSTART;VALUE=DATE:20180929
DTEND;VALUE=DATE:20181001
DTSTAMP:20260424T175415
CREATED:20180926T233028Z
LAST-MODIFIED:20180926T233028Z
UID:1665-1538179200-1538351999@kalaacademygoa.co.in
SUMMARY:Inviation Card- Pt. Jitendra Abhisheki Sangeet Mahotsav.
DESCRIPTION:
URL:https://kalaacademygoa.co.in/event/inviation-card-pt-jitendra-abhisheki-sangeet-mahotsav/
END:VEVENT
END:VCALENDAR